BEGIN:VCALENDAR
VERSION:2.0
PRODID:-//Abbazia San Paolo - ECPv6.9.0//NONSGML v1.0//EN
CALSCALE:GREGORIAN
METHOD:PUBLISH
X-ORIGINAL-URL:https://abbaziasanpaolo.org
X-WR-CALDESC:Eventi per Abbazia San Paolo
REFRESH-INTERVAL;VALUE=DURATION:PT1H
X-Robots-Tag:noindex
X-PUBLISHED-TTL:PT1H
BEGIN:VTIMEZONE
TZID:Europe/Paris
BEGIN:DAYLIGHT
TZOFFSETFROM:+0100
TZOFFSETTO:+0200
TZNAME:CEST
DTSTART:20260329T010000
END:DAYLIGHT
BEGIN:STANDARD
TZOFFSETFROM:+0200
TZOFFSETTO:+0100
TZNAME:CET
DTSTART:20261025T010000
END:STANDARD
END:VTIMEZONE
BEGIN:VEVENT
DTSTART;TZID=Europe/Paris:20260130T200000
DTEND;TZID=Europe/Paris:20260201T230000
DTSTAMP:20260420T145305
CREATED:20260125T083835Z
LAST-MODIFIED:20260202T091212Z
UID:14821-1769803200-1769986800@abbaziasanpaolo.org
SUMMARY:"La Cena dei Cretini"
DESCRIPTION:La Compagnia di Viaggio porta in scena La Cena dei Cretini\, una commedia esilarante di Francis Veber\, per la regia di Valentino Pucciarelli. \nUn gruppo di francesi abbienti organizza periodicamente una competizione divertente in cui ognuno di essi deve portare a cena il peggior idiota incontrato. Tutto va bene fino a che Pierre non invita a casa propria il signor Pignon. Un vero e proprio cult in cui “il cretino” senza volerlo\, ribalterà la situazione\, creando una serie infinita di problemi al padrone di casa\, arrivando persino a mettergli in crisi il matrimonio. \nDal 30 gennaio al 1° febbraio 2026 al Piccolo Teatro San Paolo 
URL:https://abbaziasanpaolo.org/evento/la-compagnia-di-viaggio-porta-in-scena-la-cena-dei-cretini
LOCATION:Piccolo Teatro San Paolo\, Via Ostiense 190\, Roma\, NY\, 00120
CATEGORIES:Piccolo Teatro San Paolo
ATTACH;FMTTYPE=image/jpeg:https://abbaziasanpaolo.org/wp-content/uploads/2026/01/614980256_122199214250319405_919450052471945473_n-e1769762920320.jpg
END:VEVENT
BEGIN:VEVENT
DTSTART;VALUE=DATE:20260219
DTEND;VALUE=DATE:20260223
DTSTAMP:20260420T145305
CREATED:20251202T201130Z
LAST-MODIFIED:20260202T091747Z
UID:13993-1771459200-1771804799@abbaziasanpaolo.org
SUMMARY:"Non ci si Crede"
DESCRIPTION:La famiglia come valore da recuperare e proteggere\, raccontata attraverso la storia di tre fratelli con caratteristiche diverse e molto particolari\, che si ritrovano a condividere un appartamento per risolvere una importante questione familiare: l’eredità di un Castello. \nA causa del fratello minore\, gli altri due dovranno affrontare situazioni inverosimili\, ai limiti della realtà. In loro aiuto arriverà una vicina di casa\, tanto presente quanto invadente\, che proporrà una soluzione stravagante. Riusciranno a non perdere l’eredità? \nUna commedia che vuole portare in scena l’importanza dei legami affettivi e familiari\, grazie a un sapiente equilibro tra battute brillanti e momenti di riflessione apparentemente leggera.
URL:https://abbaziasanpaolo.org/evento/non-ci-si-crede
LOCATION:Piccolo Teatro San Paolo\, Via Ostiense 190\, Roma\, NY\, 00120
CATEGORIES:Piccolo Teatro San Paolo
ATTACH;FMTTYPE=image/jpeg:https://abbaziasanpaolo.org/wp-content/uploads/2025/12/588268279_18544082422012772_4105323079370852741_n.jpg
END:VEVENT
BEGIN:VEVENT
DTSTART;TZID=Europe/Paris:20260312T190000
DTEND;TZID=Europe/Paris:20260315T233000
DTSTAMP:20260420T145305
CREATED:20260309T130911Z
LAST-MODIFIED:20260309T141244Z
UID:14932-1773342000-1773617400@abbaziasanpaolo.org
SUMMARY:L’ULTIMO VOLO
DESCRIPTION:Il testo di Gianni Clementi in scena al Piccolo Teatro San Paolo\nIl Piccolo Teatro San Paolo ospita lo spettacolo L’Ultimo Volo\, testo di Gianni Clementi proposto dalla compagnia teatrale Il Filo d’Aria. \nLo spettacolo attraversa una stagione storica complessa e carica di tensioni\, seguendo le vicende di alcuni giovani protagonisti alle prese con sogni\, aspettative e scelte difficili. Il racconto teatrale intreccia dimensione personale e contesto storico\, costruendo una narrazione intensa che si sviluppa progressivamente nel corso della rappresentazione. \nAttraverso dialoghi serrati e momenti di forte coinvolgimento emotivo\, L’Ultimo Volo invita lo spettatore a confrontarsi con le dinamiche della memoria\, delle relazioni e delle responsabilità individuali. \nLo spettacolo sarà in scena al Piccolo Teatro San Paolo di Roma dal 12 al 15 marzo 2026\, con la regia di Antonio M. Monaco. \n\nDate e orari\n12 – 15 marzo 2026giovedì e venerdì ore 21sabato ore 19domenica ore 18 \nInfo e Contatti\nemail ilfilodaria@outlook.it \ntel: +393780640295
URL:https://abbaziasanpaolo.org/evento/lultimo-volo
LOCATION:Piccolo Teatro San Paolo\, Via Ostiense 190\, Roma\, NY\, 00120
CATEGORIES:Piccolo Teatro San Paolo
ATTACH;FMTTYPE=image/jpeg:https://abbaziasanpaolo.org/wp-content/uploads/2026/03/645712076_10240240555300917_5847922978935242149_n.jpg
END:VEVENT
BEGIN:VEVENT
DTSTART;VALUE=DATE:20260319
DTEND;VALUE=DATE:20260330
DTSTAMP:20260420T145305
CREATED:20260309T133457Z
LAST-MODIFIED:20260309T141250Z
UID:14910-1773878400-1774828799@abbaziasanpaolo.org
SUMMARY:Prima Pagina
DESCRIPTION:La commedia di Ben Hecht e Charles MacArthur al Piccolo Teatro San Paolo\nIl Piccolo Teatro San Paolo ospita lo spettacolo Prima Pagina\, celebre commedia scritta da Ben Hecht e Charles MacArthur e portata in scena dalla Compagnia del Delfino. \nIl testo\, ambientato nel mondo del giornalismo\, racconta con ritmo brillante e ironico l’atmosfera di una redazione dove reporter e cronisti sono costantemente alla ricerca della notizia più importante. Tra rivalità professionali\, ambizioni personali e situazioni imprevedibili\, la storia diventa anche una riflessione sul rapporto tra informazione\, potere e verità. \nConsiderata uno dei grandi classici della commedia americana del Novecento\, Prima Pagina continua ancora oggi a offrire uno sguardo divertente e pungente sul mondo dei media. \nLo spettacolo sarà in scena al Piccolo Teatro San Paolo in via Ostiense a Roma dal 19 al 29 marzo 2026\, con la regia di Giuliano Baragli. \nDate e orari\n19 – 29 marzo 2026mercoledì e venerdì ore 21sabato e domenica ore 18 \nInformazioni e Contatti\nTel. 3893114011 \nemail spettacolo@compagniadeldelfino.it
URL:https://abbaziasanpaolo.org/evento/prima-pagina
LOCATION:Piccolo Teatro San Paolo\, Via Ostiense 190\, Roma\, NY\, 00120
CATEGORIES:Piccolo Teatro San Paolo
ATTACH;FMTTYPE=image/jpeg:https://abbaziasanpaolo.org/wp-content/uploads/2026/03/prima-paginaa-teatro-san-paolo.jpg
END:VEVENT
BEGIN:VEVENT
DTSTART;TZID=Europe/Paris:20260415T190000
DTEND;TZID=Europe/Paris:20260415T233000
DTSTAMP:20260420T145305
CREATED:20260412T193106Z
LAST-MODIFIED:20260412T193106Z
UID:15325-1776279600-1776295800@abbaziasanpaolo.org
SUMMARY:La Favola che non c’è al Piccolo Teatro San Paolo
DESCRIPTION:Al Piccolo Teatro San Paolo di Roma arriva La Favola che non c’è\, spettacolo de La Compagnia degli Avanzi\, scritto e diretto da Elisabetta Rossi. \nUno spettacolo che si muove tra suggestioni fiabesche e linguaggi contemporanei\, costruendo un racconto che unisce elementi di commedia e musical. \nUn racconto contemporaneo tra fiaba e realtà\, tra immaginazione e presente\, tra commedia e musical.\n“C’era una volta…”: così iniziano le fiabe\, evocando un tempo lontano. Eppure\, le storie che appartengono alla tradizione continuano a parlare anche al presente. \nLa Favola che non c’è prende spunto proprio da questo immaginario\, mettendo in scena personaggi provenienti da mondi diversi che si incontrano e si confrontano. Ne nascono situazioni inedite\, a tratti leggere e paradossali\, che accompagnano lo spettatore in un percorso tra realtà e fantasia. \nIl racconto si sviluppa come una “favola nella favola”\, in cui il confine tra ciò che è immaginato e ciò che è reale si fa sempre più sottile. \nLa Compagnia degli Avanzi si confronta con un linguaggio scenico che unisce teatro e musica\, alternando momenti narrativi a passaggi più dinamici e corali. \nLo spettacolo si presenta come un’esperienza pensata per coinvolgere pubblici diversi\, mantenendo un tono leggero ma capace di suggerire riflessioni più ampie. \nDate e orari\n📅 Dal 15 al 19 aprile 2026 \n\nmercoledì\, giovedì e venerdì ore 21.00\nsabato e domenica ore 18.00\n\nDove\n📍 Piccolo Teatro San Paolo\nVia Ostiense 190 – Roma \nInfo e prenotazioni\n📞 320 3490437\n✉ compagniadegliavanzi@gmail.com \n  \n 
URL:https://abbaziasanpaolo.org/evento/la-favola-che-non-ce-al-piccolo-teatro-san-paolo
LOCATION:Piccolo Teatro San Paolo\, Via Ostiense 190\, Roma\, NY\, 00120
CATEGORIES:Piccolo Teatro San Paolo
ATTACH;FMTTYPE=image/jpeg:https://abbaziasanpaolo.org/wp-content/uploads/2026/04/654801751_122201740202560543_5198065567354032376_n.jpg
END:VEVENT
END:VCALENDAR