BEGIN:VCALENDAR
VERSION:2.0
PRODID:-//Abbazia San Paolo - ECPv6.9.0//NONSGML v1.0//EN
CALSCALE:GREGORIAN
METHOD:PUBLISH
X-WR-CALNAME:Abbazia San Paolo
X-ORIGINAL-URL:https://abbaziasanpaolo.org
X-WR-CALDESC:Eventi per Abbazia San Paolo
REFRESH-INTERVAL;VALUE=DURATION:PT1H
X-Robots-Tag:noindex
X-PUBLISHED-TTL:PT1H
BEGIN:VTIMEZONE
TZID:Europe/Paris
BEGIN:DAYLIGHT
TZOFFSETFROM:+0100
TZOFFSETTO:+0200
TZNAME:CEST
DTSTART:20250330T010000
END:DAYLIGHT
BEGIN:STANDARD
TZOFFSETFROM:+0200
TZOFFSETTO:+0100
TZNAME:CET
DTSTART:20251026T010000
END:STANDARD
END:VTIMEZONE
BEGIN:VEVENT
DTSTART;VALUE=DATE:20251219
DTEND;VALUE=DATE:20251222
DTSTAMP:20260420T151240
CREATED:20251202T200237Z
LAST-MODIFIED:20251202T200417Z
UID:13990-1766102400-1766361599@abbaziasanpaolo.org
SUMMARY:Night And Day - Arts in English
DESCRIPTION:Want to relive the music\, glamour and style of the Jazz Age ? Then look no further than our  Roaring 20’s musical revue !The Charleston\, Flappers\, Jazz music… In the words of Cole Porter “Let’s Do It”!Advance ticket bookings open now for our new  December show celebrating the excitement of the Racy\, Roaring 20’s!We’ll take you on a journey through Venice\, London\, Paris & New York with the divine musical scores from George Gershwin & Cole Porter.Don’t miss this chance\, BOOK NOW! 19 December\, h. 20:00 20 December\, h. 17:30 21 December\, h. 17:30Piccolo Teatro San Paolo\, Via Ostiense 190\, 00146\, Romabook now: artsinenglish@outlook.com
URL:https://abbaziasanpaolo.org/evento/night-and-day
LOCATION:Piccolo Teatro San Paolo\, Via Ostiense 190\, Roma\, NY\, 00120
CATEGORIES:Piccolo Teatro San Paolo
ATTACH;FMTTYPE=image/jpeg:https://abbaziasanpaolo.org/wp-content/uploads/2025/12/581223973_18064326548534029_6039709339075914615_n.jpg
END:VEVENT
BEGIN:VEVENT
DTSTART;VALUE=DATE:20251127
DTEND;VALUE=DATE:20251215
DTSTAMP:20260420T151240
CREATED:20251202T195456Z
LAST-MODIFIED:20251202T195456Z
UID:13985-1764201600-1765756799@abbaziasanpaolo.org
SUMMARY:Fausto e gli Sciacalli
DESCRIPTION:Fausto e gli sciacalli\n\nPrima il successo e poi? come sarà la vita di chi è stato una stella\, una celebrità\, una persona famosa\, quando le luci si spengono e bisogna pensare alla quotidianità di una vita normale? si riaccenderanno le luci? ci sarà ancora qualcuno che si ricorderà? e le speranze\, le delusioni\, i sogni\, our dreams!!! Ancora una volta Gianni Clementi scava nella vita e nell’animo delle persone. Noi cercheremo di trasmettervi le loro emozioni e poi sarete voi del pubblico a giudicare o semplicemente a immedesimarvi nei personaggi della commedia. \nBUONO SPETTACOLO DAI TUTTIESAURITI\nCHE QUEST’ANNO FESTEGGIANO I LORO 25 ANNI! \nCAST \nAlessandra Zibellini\, Alessia Provenzano\, Andrea Gasparoni\, Francesco Tosoratto\, Mario Zappacosta\, Monica Parisi\, Mauro Beltramme\, Paolo Tosetto\, Stefano Bertolelli \n  \nOrganizzazione: MAURO BELTRAMME\nDirettrice: di scena PATRIZIA DI LORENZO\nCostumi: FEDORA BLASCO\nScenografia: JOSÉ CAVALIERI e MARIA TERESA SERAFINI\nLuci e suoni: RICCARDO COMPAGNUCCI\nFoto di scena: MAURIZIO BELISARIO\nS.media: CLAUDIA LUCENTI\nGrafica: DINA VDOVENKO \nDAL 27 NOVEMBRE AL 14 DICEMBRE 2025\nPICCOLO TEATRO SAN PAOLO\nVia Ostiense 190 – Roma \nGIOVEDì e VENERDì ore 21.00\nSABATO e DOMENICA ore 17.30 \nPRENOTAZIONI: 347 5825568 – compagnia.tuttiesauriti@gmail.com \nSPETTACOLO A BENEFICIO DE “LA MACCHINA DEI SOGNI” ONLUS
URL:https://abbaziasanpaolo.org/evento/fausto-e-gli-sciacalli
LOCATION:Piccolo Teatro San Paolo\, Via Ostiense 190\, Roma\, NY\, 00120
CATEGORIES:Piccolo Teatro San Paolo
ATTACH;FMTTYPE=image/jpeg:https://abbaziasanpaolo.org/wp-content/uploads/2025/12/Locandina_TuttiEsauriti_2-copia.jpg
END:VEVENT
BEGIN:VEVENT
DTSTART;VALUE=DATE:20251113
DTEND;VALUE=DATE:20251124
DTSTAMP:20260420T151240
CREATED:20251028T100130Z
LAST-MODIFIED:20251029T215448Z
UID:13709-1762992000-1763942399@abbaziasanpaolo.org
SUMMARY:La Compagnia del Delfino porta in scena 'Toc Toc'
DESCRIPTION:Nata nel 1997 da un’idea del regista Giuliano Baragli\, la Compagnia del Delfino porta in scena da oltre venticinque anni spettacoli capaci di unire passione teatrale e impegno solidale. Originata dall’esperienza cabarettistica di Baragli negli anni ’80\, la compagnia si è progressivamente consolidata grazie a un gruppo affiatato di attori e tecnici che condividono entusiasmo\, professionalità e un forte spirito di collaborazione. Nel tempo il Delfino ha proposto un repertorio vario\, dalle commedie brillanti ai testi più intensi o drammatici\, fino ai “gialli” e ai musical accompagnati da musiche originali composte da Adriano Piva\, in un raro connubio tra teatro e composizione dal vivo. Ogni spettacolo è anche occasione di solidarietà: i proventi vengono infatti devoluti a realtà benefiche e progetti di sostegno. La Compagnia del Delfino è oggi sinonimo di teatro appassionato e inclusivo\, dove l’arte diventa strumento di condivisione\, crescita e aiuto concreto. Con queste promettenti premesse\, dal 13 al 23 novembre la Compagnia porta in scena al Piccolo Teatro San Paolo di via Ostiense 190\, la Commedia dal titolo “Toc Toc”. Tutte le informazioni disponibili sui canali della Compagnia.
URL:https://abbaziasanpaolo.org/evento/la-compagnia-del-delfino-porta-in-scena-toc-toc
LOCATION:Piccolo Teatro San Paolo\, Via Ostiense 190\, Roma\, NY\, 00120
CATEGORIES:Piccolo Teatro San Paolo
ATTACH;FMTTYPE=image/jpeg:https://abbaziasanpaolo.org/wp-content/uploads/2025/10/Piccolo-teatro-san-paolo-.jpg
END:VEVENT
END:VCALENDAR