BEGIN:VCALENDAR
VERSION:2.0
PRODID:-//Abbazia San Paolo - ECPv6.9.0//NONSGML v1.0//EN
CALSCALE:GREGORIAN
METHOD:PUBLISH
X-ORIGINAL-URL:https://abbaziasanpaolo.org
X-WR-CALDESC:Eventi per Abbazia San Paolo
REFRESH-INTERVAL;VALUE=DURATION:PT1H
X-Robots-Tag:noindex
X-PUBLISHED-TTL:PT1H
BEGIN:VTIMEZONE
TZID:Europe/Paris
BEGIN:DAYLIGHT
TZOFFSETFROM:+0100
TZOFFSETTO:+0200
TZNAME:CEST
DTSTART:20260329T010000
END:DAYLIGHT
BEGIN:STANDARD
TZOFFSETFROM:+0200
TZOFFSETTO:+0100
TZNAME:CET
DTSTART:20261025T010000
END:STANDARD
END:VTIMEZONE
BEGIN:VEVENT
DTSTART;VALUE=DATE:20260319
DTEND;VALUE=DATE:20260330
DTSTAMP:20260420T133547
CREATED:20260309T133457Z
LAST-MODIFIED:20260309T141250Z
UID:14910-1773878400-1774828799@abbaziasanpaolo.org
SUMMARY:Prima Pagina
DESCRIPTION:La commedia di Ben Hecht e Charles MacArthur al Piccolo Teatro San Paolo\nIl Piccolo Teatro San Paolo ospita lo spettacolo Prima Pagina\, celebre commedia scritta da Ben Hecht e Charles MacArthur e portata in scena dalla Compagnia del Delfino. \nIl testo\, ambientato nel mondo del giornalismo\, racconta con ritmo brillante e ironico l’atmosfera di una redazione dove reporter e cronisti sono costantemente alla ricerca della notizia più importante. Tra rivalità professionali\, ambizioni personali e situazioni imprevedibili\, la storia diventa anche una riflessione sul rapporto tra informazione\, potere e verità. \nConsiderata uno dei grandi classici della commedia americana del Novecento\, Prima Pagina continua ancora oggi a offrire uno sguardo divertente e pungente sul mondo dei media. \nLo spettacolo sarà in scena al Piccolo Teatro San Paolo in via Ostiense a Roma dal 19 al 29 marzo 2026\, con la regia di Giuliano Baragli. \nDate e orari\n19 – 29 marzo 2026mercoledì e venerdì ore 21sabato e domenica ore 18 \nInformazioni e Contatti\nTel. 3893114011 \nemail spettacolo@compagniadeldelfino.it
URL:https://abbaziasanpaolo.org/evento/prima-pagina
LOCATION:Piccolo Teatro San Paolo\, Via Ostiense 190\, Roma\, NY\, 00120
CATEGORIES:Piccolo Teatro San Paolo
ATTACH;FMTTYPE=image/jpeg:https://abbaziasanpaolo.org/wp-content/uploads/2026/03/prima-paginaa-teatro-san-paolo.jpg
END:VEVENT
END:VCALENDAR