BEGIN:VCALENDAR
VERSION:2.0
PRODID:-//Abbazia San Paolo - ECPv6.9.0//NONSGML v1.0//EN
CALSCALE:GREGORIAN
METHOD:PUBLISH
X-WR-CALNAME:Abbazia San Paolo
X-ORIGINAL-URL:https://abbaziasanpaolo.org
X-WR-CALDESC:Eventi per Abbazia San Paolo
REFRESH-INTERVAL;VALUE=DURATION:PT1H
X-Robots-Tag:noindex
X-PUBLISHED-TTL:PT1H
BEGIN:VTIMEZONE
TZID:Europe/Paris
BEGIN:DAYLIGHT
TZOFFSETFROM:+0100
TZOFFSETTO:+0200
TZNAME:CEST
DTSTART:20250330T010000
END:DAYLIGHT
BEGIN:STANDARD
TZOFFSETFROM:+0200
TZOFFSETTO:+0100
TZNAME:CET
DTSTART:20251026T010000
END:STANDARD
END:VTIMEZONE
BEGIN:VEVENT
DTSTART;VALUE=DATE:20251219
DTEND;VALUE=DATE:20251222
DTSTAMP:20260424T112533
CREATED:20251202T200237Z
LAST-MODIFIED:20251202T200417Z
UID:13990-1766102400-1766361599@abbaziasanpaolo.org
SUMMARY:Night And Day - Arts in English
DESCRIPTION:Want to relive the music\, glamour and style of the Jazz Age ? Then look no further than our  Roaring 20’s musical revue !The Charleston\, Flappers\, Jazz music… In the words of Cole Porter “Let’s Do It”!Advance ticket bookings open now for our new  December show celebrating the excitement of the Racy\, Roaring 20’s!We’ll take you on a journey through Venice\, London\, Paris & New York with the divine musical scores from George Gershwin & Cole Porter.Don’t miss this chance\, BOOK NOW! 19 December\, h. 20:00 20 December\, h. 17:30 21 December\, h. 17:30Piccolo Teatro San Paolo\, Via Ostiense 190\, 00146\, Romabook now: artsinenglish@outlook.com
URL:https://abbaziasanpaolo.org/evento/night-and-day
LOCATION:Piccolo Teatro San Paolo\, Via Ostiense 190\, Roma\, NY\, 00120
CATEGORIES:Piccolo Teatro San Paolo
ATTACH;FMTTYPE=image/jpeg:https://abbaziasanpaolo.org/wp-content/uploads/2025/12/581223973_18064326548534029_6039709339075914615_n.jpg
END:VEVENT
END:VCALENDAR