BEGIN:VCALENDAR
VERSION:2.0
PRODID:-//Abbazia San Paolo - ECPv6.9.0//NONSGML v1.0//EN
CALSCALE:GREGORIAN
METHOD:PUBLISH
X-WR-CALNAME:Abbazia San Paolo
X-ORIGINAL-URL:https://abbaziasanpaolo.org
X-WR-CALDESC:Eventi per Abbazia San Paolo
REFRESH-INTERVAL;VALUE=DURATION:PT1H
X-Robots-Tag:noindex
X-PUBLISHED-TTL:PT1H
BEGIN:VTIMEZONE
TZID:Europe/Paris
BEGIN:DAYLIGHT
TZOFFSETFROM:+0100
TZOFFSETTO:+0200
TZNAME:CEST
DTSTART:20260329T010000
END:DAYLIGHT
BEGIN:STANDARD
TZOFFSETFROM:+0200
TZOFFSETTO:+0100
TZNAME:CET
DTSTART:20261025T010000
END:STANDARD
END:VTIMEZONE
BEGIN:VEVENT
DTSTART;TZID=Europe/Paris:20260130T200000
DTEND;TZID=Europe/Paris:20260201T230000
DTSTAMP:20260420T133022
CREATED:20260125T083835Z
LAST-MODIFIED:20260202T091212Z
UID:14821-1769803200-1769986800@abbaziasanpaolo.org
SUMMARY:"La Cena dei Cretini"
DESCRIPTION:La Compagnia di Viaggio porta in scena La Cena dei Cretini\, una commedia esilarante di Francis Veber\, per la regia di Valentino Pucciarelli. \nUn gruppo di francesi abbienti organizza periodicamente una competizione divertente in cui ognuno di essi deve portare a cena il peggior idiota incontrato. Tutto va bene fino a che Pierre non invita a casa propria il signor Pignon. Un vero e proprio cult in cui “il cretino” senza volerlo\, ribalterà la situazione\, creando una serie infinita di problemi al padrone di casa\, arrivando persino a mettergli in crisi il matrimonio. \nDal 30 gennaio al 1° febbraio 2026 al Piccolo Teatro San Paolo 
URL:https://abbaziasanpaolo.org/evento/la-compagnia-di-viaggio-porta-in-scena-la-cena-dei-cretini
LOCATION:Piccolo Teatro San Paolo\, Via Ostiense 190\, Roma\, NY\, 00120
CATEGORIES:Piccolo Teatro San Paolo
ATTACH;FMTTYPE=image/jpeg:https://abbaziasanpaolo.org/wp-content/uploads/2026/01/614980256_122199214250319405_919450052471945473_n-e1769762920320.jpg
END:VEVENT
END:VCALENDAR